BEGIN:VCALENDAR
VERSION:2.0
PRODID:-//https://rrcatstaffclub.in///NONSGML kigkonsult.se iCalcreator 2.10.15//
METHOD:PUBLISH
BEGIN:VEVENT
UID:20260424T205858UTC-7674EhlHba@https://rrcatstaffclub.in/
DTSTAMP:20260424T205858Z
DESCRIPTION:XXXIII DAE Sports and Cultural Meet 2017-18 https://rrcatstaffc
 lub.in/events/rrcat/event/77-poetry
DTSTART:20180316T110000Z
DTEND:20180316T140000Z
LOCATION:Homi Bhabha Auditorium\, RRCAT Convention Center (Unnamed Road\, R
 RCAT\, Indore\, Madhya Pradesh 452013\, India)
SUMMARY:Poetry
URL:https://rrcatstaffclub.in/events/rrcat/event/77-poetry
END:VEVENT
END:VCALENDAR
