BEGIN:VCALENDAR
VERSION:2.0
PRODID:-//https://rrcatstaffclub.in///NONSGML kigkonsult.se iCalcreator 2.10.15//
METHOD:PUBLISH
BEGIN:VEVENT
UID:20260424T211119UTC-6259GIud9u@https://rrcatstaffclub.in/
DTSTAMP:20260424T211119Z
DESCRIPTION:Dear All\,'The Science Discovery Club will be screening the six
 th episode of Carl Sagan's COSMOS: 'Travellers' Tales' on March 9\, 2018 i
 n the Homi Sethna Hall\, Convention Centre\, from 7 to 8 PM. All members o
 f the Staff club are invited to the screening'Please visit https://rrcatst
 affclub.com/ for more information. With best regards\,A S JoshiPresident\,
  RRCAT Staff Club https://rrcatstaffclub.in/events/rrcat/event/78-science-
 movie-night
DTSTART:20180309T133000Z
DTEND:20180309T143000Z
LOCATION:Homi Sethna Hall\, RRCAT Convention Center (Unnamed Road\, RRCAT\,
  Indore\, Madhya Pradesh 452013\, India)
SUMMARY:Science Movie Night
URL:https://rrcatstaffclub.in/events/rrcat/event/78-science-movie-night
END:VEVENT
END:VCALENDAR
