BEGIN:VCALENDAR
VERSION:2.0
PRODID:-//https://rrcatstaffclub.in///NONSGML kigkonsult.se iCalcreator 2.10.15//
METHOD:PUBLISH
BEGIN:VEVENT
UID:20260424T210932UTC-5618koEpsJ@https://rrcatstaffclub.in/
DTSTAMP:20260424T210932Z
DESCRIPTION:Dear Colleagues\,Under the DAE Public Outreach Programme\, a 11
  member group from BARC\, Mumbai is going to stage two short plays (skits)
  during the ongoing DAE Cultural meet at Convention Centre\, RRCAT and els
 ewhere in Indore. These skits are on nuclear energy and its safe operation
 .These plays shall be performed at 7 PM on 14.03.2018 at Convention Centre
 . For more details kindly see the attached banner.All RRCAT employees and 
 their family members are welcome to attend this programme.with best regard
 sRRCAT Staff ClubPublic Outreach Committee\, RRCATKindly note that eatable
 s are not allowed inside the auditorium\n https://rrcatstaffclub.in/events
 /rrcat/event/79-dae-public-outreach-program
DTSTART:20180314T133000Z
DTEND:20180314T143000Z
LOCATION:Homi Bhabha Auditorium\, RRCAT Convention Center (Unnamed Road\, R
 RCAT\, Indore\, Madhya Pradesh 452013\, India)
SUMMARY:DAE Public Outreach Program
URL:https://rrcatstaffclub.in/events/rrcat/event/79-dae-public-outreach-pro
 gram
END:VEVENT
END:VCALENDAR
