BEGIN:VCALENDAR
VERSION:2.0
PRODID:-//https://rrcatstaffclub.in///NONSGML kigkonsult.se iCalcreator 2.10.15//
METHOD:PUBLISH
BEGIN:VEVENT
UID:20260424T210933UTC-0013dXMrj0@https://rrcatstaffclub.in/
DTSTAMP:20260424T210933Z
DESCRIPTION: XXXIII DAE Sports and Cultural Meet 2017-18\n \n\n\n\nSr. No.
 \nTitle\nTeam\nLanguage\n\n\n1\nJeevan Chakra\nDwarka\nHindi\n\n\n2\nPasa 
 Valai\nRameshwaram\nTamil\n\n\n3\nUmmidon Ki Kaied Mein\nPushkar\nHindi\n
 \n\n\n \n  https://rrcatstaffclub.in/events/rrcat/event/80-one-act-play
DTSTART:20180315T110000Z
DTEND:20180315T150000Z
LOCATION:Homi Bhabha Auditorium\, RRCAT Convention Center (Unnamed Road\, R
 RCAT\, Indore\, Madhya Pradesh 452013\, India)
SUMMARY:One-Act-Play
URL:https://rrcatstaffclub.in/events/rrcat/event/80-one-act-play
END:VEVENT
END:VCALENDAR
