BEGIN:VCALENDAR
VERSION:2.0
PRODID:-//https://rrcatstaffclub.in///NONSGML kigkonsult.se iCalcreator 2.10.15//
METHOD:PUBLISH
BEGIN:VEVENT
UID:20260424T205917UTC-3475OPVO4P@https://rrcatstaffclub.in/
DTSTAMP:20260424T205917Z
DESCRIPTION: XXXIII DAE Sports and Cultural Meet 2017-18\n \n\n\n\nSr. No.
 \nTitle\nTeam\nLanguage\n\n\n1\nRajan Langoti\nGolconda\nKannada\n\n\n2\nD
 urga\nellora\nHindi\n\n\n3\nElectricity Ki Duia ka CEO\nBARC Outreach\nHin
 di\n\n\n4\nKam Mein He Dam\nBARC Outreach\nHindi\n\n\n\n \n  https://rrcat
 staffclub.in/events/rrcat/event/81-one-act-play
DTSTART:20180314T110000Z
DTEND:20180314T150000Z
LOCATION:Homi Bhabha Auditorium\, RRCAT Convention Center (Unnamed Road\, R
 RCAT\, Indore\, Madhya Pradesh 452013\, India)
SUMMARY:One-Act-Play
URL:https://rrcatstaffclub.in/events/rrcat/event/81-one-act-play
END:VEVENT
END:VCALENDAR
