BEGIN:VCALENDAR
VERSION:2.0
PRODID:-//https://rrcatstaffclub.in///NONSGML kigkonsult.se iCalcreator 2.10.15//
METHOD:PUBLISH
BEGIN:VEVENT
UID:20260424T211122UTC-1394UFWnui@https://rrcatstaffclub.in/
DTSTAMP:20260424T211122Z
DESCRIPTION:Dear All\,'The Science Discovery Club will be screening the sev
 enth episode of Carl Sagan's COSMOS: 'The Backbone of Night' on March 16\,
  2018 in the Homi Sethna Hall\, Convention Centre\, from 7 to 8 PM. All me
 mbers of the Staff club are invited to the screening'Please visit https://
 rrcatstaffclub.com/ for more information. With best regards\,A S JoshiPres
 ident\, RRCAT Staff Club https://rrcatstaffclub.in/events/rrcat/event/82-s
 cience-movie-night
DTSTART:20180316T133000Z
DTEND:20180316T143000Z
LOCATION:Homi Sethna Hall\, RRCAT Convention Center (Unnamed Road\, RRCAT\,
  Indore\, Madhya Pradesh 452013\, India)
SUMMARY:Science Movie Night
URL:https://rrcatstaffclub.in/events/rrcat/event/82-science-movie-night
END:VEVENT
END:VCALENDAR
