BEGIN:VCALENDAR
VERSION:2.0
PRODID:-//https://rrcatstaffclub.in///NONSGML kigkonsult.se iCalcreator 2.10.15//
METHOD:PUBLISH
BEGIN:VEVENT
UID:20260424T230827UTC-0002F8EkIR@https://rrcatstaffclub.in/
DTSTAMP:20260424T230827Z
DESCRIPTION:Dear All\,'The Science Discovery Club will be screening the 8th
  episode of Carl Sagan's COSMOS: 'Journeys in Space and Time' on March 23\
 , 2018 in the Homi Sethna Hall\, Convention Centre\, from 7 to 8 PM. All m
 embers of the Staff Club are invited to the screening'With best regards\,A
  S JoshiPresident\, RRCAT Staff Club https://rrcatstaffclub.in/events/rrca
 t/event/83-science-movie-night
DTSTART:20180323T133000Z
DTEND:20180323T143000Z
LOCATION:Homi Sethna Hall\, RRCAT Convention Center (Unnamed Road\, RRCAT\,
  Indore\, Madhya Pradesh 452013\, India)
SUMMARY:Science Movie Night
URL:https://rrcatstaffclub.in/events/rrcat/event/83-science-movie-night
END:VEVENT
END:VCALENDAR
