BEGIN:VCALENDAR
VERSION:2.0
PRODID:-//https://rrcatstaffclub.in///NONSGML kigkonsult.se iCalcreator 2.10.15//
METHOD:PUBLISH
BEGIN:VEVENT
UID:20260424T211208UTC-9009BwPXoB@https://rrcatstaffclub.in/
DTSTAMP:20260424T211208Z
DESCRIPTION:Dear All\,\n'The Science Discovery Club will be screening the 9
 th episode of Carl Sagan's COSMOS: 'The Lives of the Stars' on March 30\, 
 2018 in the Homi Sethna Hall\, Convention Centre\, from 7 to 8 PM. All mem
 bers of the Staff Club are invited to the screening'\nWith best regards\,
 \nA S JoshiPresident\, RRCAT Staff Club https://rrcatstaffclub.in/events/r
 rcat/event/88-science-movie-night
DTSTART:20180330T133000Z
DTEND:20180330T143000Z
LOCATION:Homi Sethna Hall\, RRCAT Convention Center (Unnamed Road\, RRCAT\,
  Indore\, Madhya Pradesh 452013\, India)
SUMMARY:Science Movie Night
URL:https://rrcatstaffclub.in/events/rrcat/event/88-science-movie-night
END:VEVENT
END:VCALENDAR
