BEGIN:VCALENDAR
VERSION:2.0
PRODID:-//https://rrcatstaffclub.in///NONSGML kigkonsult.se iCalcreator 2.10.15//
METHOD:PUBLISH
BEGIN:VEVENT
UID:20260424T211559UTC-2021fH3diR@https://rrcatstaffclub.in/
DTSTAMP:20260424T211559Z
DESCRIPTION:Dear all\,\nThe Nature and Adventure Circle (NAC)\, BARC Staff 
 Club &amp\; team Girisanchar have been organizing adventure activities for
  the wards of DAE employees. The objective of these activities is to promo
 te the spirit of adventure among the youngsters.\nThis year they are going
  to conduct rock climbing sessions at CBD Belapur region near Mumbai in Ap
 ril-May for the wards of DAE employees in various age groups as a part of 
 'Initiative for Olympiad Climbing (IOC)' series.\nKindly see the attached 
 document for dates\,fees\, application form and other details\nFor any fur
 ther information/clarification please contact undersigned\nWith regards\,
 \nRajesh ShirsatConvener\, NAC\,RRCAT Staff Club8605/8932\n \n  https://rr
 catstaffclub.in/events/rrcat/event/99-rock-climbing-sessions-at-mumbai
DTSTART;VALUE=DATE:20180428
LOCATION:CBD Belapur Rock Climbing (Forest Area\, Kharghar\, Navi Mumbai\, 
 Maharashtra 400614\, India)
SUMMARY:Rock Climbing Sessions at Mumbai
URL:https://rrcatstaffclub.in/events/rrcat/event/99-rock-climbing-sessions-
 at-mumbai
END:VEVENT
END:VCALENDAR
